BEGIN:VCALENDAR
VERSION:2.0
PRODID:-//CiviCRM//NONSGML CiviEvent iCal//EN
X-WR-TIMEZONE:Europe/London
METHOD:PUBLISH
BEGIN:VEVENT
UID:CiviCRM_EventID_2603_c00307c885c6990369db2f1282974db1@insurance.biba.org.uk
SUMMARY:BIBA webinar - How brokers can mitigate underinsur
 ance risk  presented by iprism
DESCRIPTION:\n \n 	\n \n \n \n 	\n 		\n 			\n 		\n 		\n 			\n 
 			\n \n 			BIBA&nbsp\;webinar - How brokers can m
 itigate underinsurance risk &nbsp\;presented by ip
 rism\n \n 			Explore how underinsurance occurs\, t
 he risks it creates\, and the practical steps brok
 ers can take to identify\, prevent\, and manage ex
 posure - plus how Iprism helps protect your client
 s and outcomes.\n \n 			Learning objectives:\n \n 
 			By the end of this webinar\, delegates should b
 e able to:\n \n 			\n 				\n 				\n 					Identify 
 the key signs of underinsurance in property and co
 ntents risks.\n 					Determine how underinsurance 
 can reduce claim payments.\n 					Apply simple che
 cks and reviews to help keep client values accurat
 e.\n 					Outline how Iprism safeguards support br
 okers in reducing underinsurance risk.\n 				\n 		
 		\n 			\n \n 			Presenter - Bradley Harmer \n \n 
 			Bradley is Iprism&rsquo\;s Chief Commercial Off
 icer\, having joined the company as a Business Dev
 elopment Handler in 2015. With 15 years of experie
 nce in the insurance industry\, Bradley leads the 
 business with a focus on Business Development\, Sa
 les\, and Distribution. He is also an active membe
 r of the Board.\n 			\n 		\n 		\n 			\n 			Delegat
 es participating in the accredited webinar can cla
 im up to 1 CPD hour towards the CII member CPD sch
 eme. A formal completion certificate will be issue
 d for members attending and returning a feedback f
 orm.&nbsp\;&nbsp\;\n \n 			DISCLAIMER:\n \n 			Our
  webinars are designed to give information and gui
 dance and we aim to make them as accurate as we ca
 n at the time of presentation and recording. Howev
 er\, they may sometimes represent individual views
  and BIBA cannot guarantee\, nor do they accept an
 y responsibility or liability for\, the accuracy o
 r completeness of the content or for any loss whic
 h may arise from reliance on information contained
  within these presentations and recordings.\n 			\
 n 		\n 	\n \n \n &nbsp\;\n \n 
CATEGORIES:Webinar
CALSCALE:GREGORIAN
DTSTAMP;VALUE=DATE-TIME:20260708T110000
DTSTART;VALUE=DATE-TIME:20260708T110000
DTEND;VALUE=DATE-TIME:20260708T121500
LOCATION:Webinar\n Delegate's internal equipment\n Login de
 tails to be sent 1 week prior to event.\n If login
  details not received 24 hours prior to event cont
 act Natasha at wrightn@biba.org.uk\n United Kingdo
 m\n 
URL:https://insurance.biba.org.uk/civicrm/event/info?reset=1&id=2603
END:VEVENT
END:VCALENDAR
